BEGIN:VCALENDAR
VERSION:2.0
PRODID:-//AudioTheme 3.0.2
BEGIN:VEVENT
UID:urn:uuid:afb3dc36-6b2e-4ffb-a3c8-f3f89c74e969
URL:https://alisonmelville.com/shows/sopratutto-vivaldi/
DTSTART;TZID=GMT:20190518T200000
SUMMARY:Sopratutto Vivaldi!
DESCRIPTION:Sparkling chamber music by Vivaldi and his northern European neighbours Telemann and Fasch. Marco Cera\, baroque oboe\; Stefano Demicheli\, harpsichord\; Alison Melville\, recorder\, traverso\; Cristina Zacharias\, baroque violin\; Dominic Teresi\, baroque bassoon. Check the Hammer Baroque website for more info on the location\, ticket prices\, etc. www.hammerbaroque.com
LOCATION:Hammer Baroque\, Hamilton\, Ontario\, Canada
END:VEVENT
END:VCALENDAR
