BEGIN:VCALENDAR
VERSION:2.0
PRODID:-//AudioTheme 3.0.2
BEGIN:VEVENT
UID:urn:uuid:0be389b1-3baa-4d42-9401-4656d7e0d075
URL:https://alisonmelville.com/shows/sound-the-trumpet/
DTSTART;TZID=GMT:20181122T000000
SUMMARY:Sound the Trumpet!
DESCRIPTION:Tafelmusik Baroque Orchestra presents Locatelli\, Corrette\, Rebel and J.S. Bach's Brandenburg Concerto 2.
LOCATION:Trinity St. Paul's Centre\, 427 Bloor St W\, Toronto\, Ontario\, Canada\, M5S 1X7
END:VEVENT
END:VCALENDAR
