BEGIN:VCALENDAR
VERSION:2.0
PRODID:-//AudioTheme 3.0.2
BEGIN:VEVENT
UID:urn:uuid:57a770ba-b934-45da-bd7d-12d5a92abec8
URL:https://alisonmelville.com/shows/tafelmusik-bachs-b-minor-mass-2/
DTSTART;TZID=GMT:20180407T000000
SUMMARY:Tafelmusik: Bach's B-Minor Mass
LOCATION:Trinity St. Paul's Centre\, 427 Bloor St W\, Toronto\, Ontario\, Canada\, M5S 1X7
END:VEVENT
END:VCALENDAR
