BEGIN:VCALENDAR
VERSION:2.0
PRODID:-//AudioTheme 3.0.2
BEGIN:VEVENT
UID:urn:uuid:03a9564a-7c78-4739-90c2-f7f5378dcd2e
URL:https://alisonmelville.com/shows/tafelmusik-bachs-b-minor-mass-4/
DTSTART;TZID=GMT:20180408T193000
SUMMARY:Tafelmusik: Bach's B-Minor Mass
LOCATION:Trinity St. Paul's Centre\, 427 Bloor St W\, Toronto\, Ontario\, Canada\, M5S 1X7
END:VEVENT
END:VCALENDAR
