BEGIN:VCALENDAR
VERSION:2.0
PRODID:-//AudioTheme 3.0.2
BEGIN:VEVENT
UID:urn:uuid:f8a82e10-164b-4d6e-a151-ebe8afc321c3
URL:https://alisonmelville.com/shows/tafelmusik-bachs-b-minor-mass-5/
DTSTART;TZID=GMT:20180411T000000
SUMMARY:Tafelmusik: Bach's B-Minor Mass
LOCATION:George Weston Recital Hall\, 5040 Yonge St.\, North York\, Ontario\, Canada\, M2N 6R8
END:VEVENT
END:VCALENDAR
