BEGIN:VCALENDAR
VERSION:2.0
PRODID:-//AudioTheme 3.0.2
BEGIN:VEVENT
UID:urn:uuid:c5fbece7-ae8a-4530-a1ec-53a48bf80901
URL:https://alisonmelville.com/shows/tafelmusik-bachs-b-minor-mass/
DTSTART;TZID=GMT:20180406T000000
SUMMARY:Tafelmusik: Bach's B-Minor Mass
LOCATION:Trinity St. Paul's Centre\, 427 Bloor St W\, Toronto\, Ontario\, Canada\, M5S 1X7
END:VEVENT
END:VCALENDAR
