BEGIN:VCALENDAR
VERSION:2.0
PRODID:-//AudioTheme 3.0.2
BEGIN:VEVENT
UID:urn:uuid:97b652f1-9bd7-433f-8065-7fe39481a250
URL:https://alisonmelville.com/shows/tafelmusik-bachs-st-john-passion-2/
DTSTART;TZID=GMT:20200329T000000
SUMMARY:Covid-CX - Tafelmusik: Bach's St John Passion
LOCATION:Koerner Hall\, 273 Bloor St W\, Toronto\, Ontario\, Canada\, M5S 1V6
END:VEVENT
END:VCALENDAR
