BEGIN:VCALENDAR
VERSION:2.0
PRODID:-//AudioTheme 3.0.2
BEGIN:VEVENT
UID:urn:uuid:03e408f5-8bd6-4255-b951-a5542695eff8
URL:https://alisonmelville.com/shows/tafelmusik-bachs-st-john-passion-3/
DTSTART;TZID=GMT:20200329T193000
SUMMARY:Covid-CX - Tafelmusik: Bach's St John Passion
LOCATION:Koerner Hall\, 273 Bloor St W\, Toronto\, Ontario\, Canada\, M5S 1V6
END:VEVENT
END:VCALENDAR
