BEGIN:VCALENDAR
VERSION:2.0
PRODID:-//AudioTheme 3.0.2
BEGIN:VEVENT
UID:urn:uuid:d2278366-c0d5-4a4c-af80-0602361caf78
URL:https://alisonmelville.com/shows/tafelmusik-bachs-st-john-passion/
DTSTART;TZID=GMT:20200328T000000
SUMMARY:Covid-CX - Tafelmusik: Bach's St John Passion
LOCATION:Koerner Hall\, 273 Bloor St W\, Toronto\, Ontario\, Canada\, M5S 1V6
END:VEVENT
END:VCALENDAR
