BEGIN:VCALENDAR
VERSION:2.0
PRODID:-//AudioTheme 3.0.2
BEGIN:VEVENT
UID:urn:uuid:ceb4f765-103f-40f2-bc06-dace7d4435ce
URL:https://alisonmelville.com/shows/tafemusik-bachs-st-john-passion/
DTSTART;TZID=GMT:20200327T000000
SUMMARY:Covid-CX - Tafemusik: Bach's St John Passion
LOCATION:Koerner Hall\, 273 Bloor St W\, Toronto\, Ontario\, Canada\, M5S 1V6
END:VEVENT
END:VCALENDAR
