BEGIN:VCALENDAR
VERSION:2.0
PRODID:-//AudioTheme 3.0.2
BEGIN:VEVENT
UID:urn:uuid:a2a93387-a791-4fb0-b086-411be4165d74
URL:https://alisonmelville.com/shows/the-last-chaconne-a-celebration/
DTSTART;TZID=GMT:20180513T000000
SUMMARY:Toronto Masque Theatre: The Last Chaconne
LOCATION:Jane Mallett Theatre\, St Lawrence Centre for the Arts\, 27 Front St E\, Toronto\, Ontario\, Canada\, M5E 1B4
END:VEVENT
END:VCALENDAR
