BEGIN:VCALENDAR
VERSION:2.0
PRODID:-//AudioTheme 3.0.2
BEGIN:VEVENT
UID:urn:uuid:403ed93b-2c3f-4002-9a4b-327e6a618558
URL:https://alisonmelville.com/shows/the-magic-touch/
DTSTART;TZID=GMT:20180121T000000
SUMMARY:The Magic Touch
DESCRIPTION:With the Nota Bene Baroque Players
LOCATION:Church of St. John the Evangelist\, 23 Water Street North\, Kitchener\, \, ON\, Canada\, N2H 5A4
END:VEVENT
END:VCALENDAR
