BEGIN:VCALENDAR
VERSION:2.0
PRODID:-//AudioTheme 3.0.2
BEGIN:VEVENT
UID:urn:uuid:40d53ab8-afcf-4d54-bd0f-c6463a94a145
URL:https://alisonmelville.com/shows/toronto-bach-festival-brandenburg-five/
DTSTART;TZID=GMT:20190524T233000
SUMMARY:Toronto Bach Festival: Brandenburg Five
DESCRIPTION:Bach's Fifth Brandenburg Concerto\, the cantata 'Tritt auf die Glaubensbahn' BWV152 and other works. 
LOCATION:St Barnabas-on-the-Danforth\, 361 Danforth Avenue\, Toronto\, ON\, Canada
END:VEVENT
END:VCALENDAR
