BEGIN:VCALENDAR
VERSION:2.0
PRODID:-//AudioTheme 3.0.2
BEGIN:VEVENT
UID:urn:uuid:8242a66f-30df-488e-9f54-ca8b413a4cc0
URL:https://alisonmelville.com/shows/toronto-bach-festival-kaffeehaus/
DTSTART;TZID=GMT:20230528T000000
SUMMARY:Toronto Bach Festival: Kaffeehaus
DESCRIPTION:Bach's Coffee Cantata\, BWV 211\, Concerto for Violin and Oboe by Telemann\, and Concerto for Four Violins\, Op. 3\, No. 7 by Vivaldi.
LOCATION:The Concert Hall\, 888 Yonge Street\, Toronto\, ON\, M4W 2J2
END:VEVENT
END:VCALENDAR
