BEGIN:VCALENDAR
VERSION:2.0
PRODID:-//AudioTheme 3.0.2
BEGIN:VEVENT
UID:urn:uuid:ed3dad8f-d8fa-4e5f-9991-c166401fd8aa
URL:https://alisonmelville.com/shows/toronto-consort-at-the-fisher-rare-books-libary/
DTSTART;TZID=GMT:20221121T000000
SUMMARY:Toronto Consort at the Fisher Rare Books Libary
DESCRIPTION:A short program of medieval music for voices\, bowed and plucked strings\, hurdy gurdy and flutes\, in conjunction with the exhibition 'Certaine Worthye Manuscripts' at the Fisher Collection\, Robarts Library\, University of Toronto.
LOCATION:Thomas Fisher Rare Books Library\, Robarts Library\, 120 St. George St.\, Toronto\, ON M
END:VEVENT
END:VCALENDAR
