BEGIN:VCALENDAR
VERSION:2.0
PRODID:-//AudioTheme 3.0.2
BEGIN:VEVENT
UID:urn:uuid:0ce58085-0690-4742-a70e-080987fe6957
URL:https://alisonmelville.com/shows/toronto-consort-illuminations-2/
DTSTART;TZID=GMT:20180304T010000
SUMMARY:Toronto Consort: Illuminations
LOCATION:Trinity St. Paul's Centre\, 427 Bloor St W\, Toronto\, Ontario\, Canada\, M5S 1X7
END:VEVENT
END:VCALENDAR
