BEGIN:VCALENDAR
VERSION:2.0
PRODID:-//AudioTheme 3.0.2
BEGIN:VEVENT
UID:urn:uuid:fa646964-4011-4258-9134-3500b9875b7d
URL:https://alisonmelville.com/shows/toronto-consort-illuminations/
DTSTART;TZID=GMT:20180303T010000
SUMMARY:Toronto Consort: Illuminations
LOCATION:Trinity St. Paul's Centre\, 427 Bloor St W\, Toronto\, Ontario\, Canada\, M5S 1X7
END:VEVENT
END:VCALENDAR
