BEGIN:VCALENDAR
VERSION:2.0
PRODID:-//AudioTheme 3.0.2
BEGIN:VEVENT
UID:urn:uuid:8d4f03cd-4b9d-4ea5-bedb-480a9ddf919c
URL:https://alisonmelville.com/shows/toronto-consort-love-remixed/
DTSTART;TZID=GMT:20190216T010000
SUMMARY:Toronto Consort: Love, Remixed
DESCRIPTION:A program of 20th- and 21st-century music written for early instruments and voices\, including James Rolfe's 'Breathe' and David Fallis's 'Eurydice Variations\,' and some surprise reinterpretations of choice medieval repertoire.
LOCATION:Trinity St. Paul's Centre\, 427 Bloor St W\, Toronto\, Ontario\, Canada\, M5S 1X7
END:VEVENT
END:VCALENDAR
