BEGIN:VCALENDAR
VERSION:2.0
PRODID:-//AudioTheme 3.0.2
BEGIN:VEVENT
UID:urn:uuid:aebbc28f-f425-498f-a965-b7700060b29e
URL:https://alisonmelville.com/shows/toronto-consort-monteverdis-orfeo-2/
DTSTART;TZID=GMT:20180527T000000
SUMMARY:Toronto Consort: Monteverdi's 'Orfeo'
LOCATION:Trinity St. Paul's Centre\, 427 Bloor St W\, Toronto\, Ontario\, Canada\, M5S 1X7
END:VEVENT
END:VCALENDAR
