BEGIN:VCALENDAR
VERSION:2.0
PRODID:-//AudioTheme 3.0.2
BEGIN:VEVENT
UID:urn:uuid:881e0c8b-867a-4ce3-b7d9-7b6ef8bca2f8
URL:https://alisonmelville.com/shows/toronto-consort-monteverdis-orfeo-3/
DTSTART;TZID=GMT:20180527T193000
SUMMARY:Toronto Consort: Monteverdi's 'Orfeo'
LOCATION:Trinity St. Paul's Centre\, 427 Bloor St W\, Toronto\, Ontario\, Canada\, M5S 1X7
END:VEVENT
END:VCALENDAR
