BEGIN:VCALENDAR
VERSION:2.0
PRODID:-//AudioTheme 3.0.2
BEGIN:VEVENT
UID:urn:uuid:d5966eab-1248-44e3-bc72-170f09041f9d
URL:https://alisonmelville.com/shows/toronto-consort-monteverdis-orfeo/
DTSTART;TZID=GMT:20180526T000000
SUMMARY:Toronto Consort: Monteverdi's 'Orfeo'
LOCATION:Trinity St. Paul's Centre\, 427 Bloor St W\, Toronto\, Ontario\, Canada\, M5S 1X7
END:VEVENT
END:VCALENDAR
