BEGIN:VCALENDAR
VERSION:2.0
PRODID:-//AudioTheme 3.0.2
BEGIN:VEVENT
UID:urn:uuid:1cee6dcc-5b44-4361-9f8b-6288cbca71a9
URL:https://alisonmelville.com/shows/toronto-consort-night-games/
DTSTART;TZID=GMT:20190504T000000
SUMMARY:Toronto Consort: Night Games
DESCRIPTION:A spirited and irreverent evening of madrigal comedy with singers\, players\, dancers and actors. Music by Vecchi\, Banchieri and others.
LOCATION:Trinity St. Paul's Centre\, 427 Bloor St W\, Toronto\, Ontario\, Canada\, M5S 1X7
END:VEVENT
END:VCALENDAR
