BEGIN:VCALENDAR
VERSION:2.0
PRODID:-//AudioTheme 3.0.2
BEGIN:VEVENT
UID:urn:uuid:4296ac31-39cf-4e87-b5ca-de3e475ec1c8
URL:https://alisonmelville.com/shows/toronto-consort-the-italian-queen-of-france/
DTSTART;TZID=GMT:20190316T000000
SUMMARY:Toronto Consort: The Italian Queen of France
DESCRIPTION:Celebration of the Arts at St. Jude's presents the Toronto Consort in Oakville\, ON.
LOCATION:St. Jude's Anglican Church\, 160 William Street\, Oakville\, Ontario\, Canada\, L6J 1C5
END:VEVENT
END:VCALENDAR
