BEGIN:VCALENDAR
VERSION:2.0
PRODID:-//AudioTheme 3.0.2
BEGIN:VEVENT
UID:urn:uuid:04b2a870-35c2-4082-bca3-32054e820caa
URL:https://alisonmelville.com/shows/toronto-consorts-un-gala/
DTSTART;TZID=GMT:20190527T000000
SUMMARY:Toronto Consort's UN-GALA
DESCRIPTION:The Toronto Consort's popular annual fundraiser\, with wine and beer tastings\, delectable hors d'oeuvre\, a silent auction\, short performances by the Consort\, and a friendly\, celebratory vibe!
LOCATION:192 Atrium - Centre for Social Innovation\, 192 Spadina Avenue\, Toronto\, ON\, Canada
END:VEVENT
END:VCALENDAR
