BEGIN:VCALENDAR
VERSION:2.0
PRODID:-//AudioTheme 3.0.2
BEGIN:VEVENT
UID:urn:uuid:e24ecb01-d423-4054-9a65-0d32b1bcbd8d
URL:https://alisonmelville.com/shows/two-brandenburg-with-love/
DTSTART;TZID=GMT:20180512T000000
SUMMARY:Two Brandenburg With Love
DESCRIPTION:Toronto Bach Festival 2018's opening concert\, featuring Brandenburg Concertos no. 2 and 4\, and also including Concerto for oboe d'amore (BWV1055) and Orchestral Suite no. 4 (BWV1069).
LOCATION:St Barnabas-on-the-Danforth\, 361 Danforth Avenue\, Toronto\, ON\, Canada
END:VEVENT
END:VCALENDAR
